Workbook

Sheet גרף שורות
C11: מוצר | D11: מכירות | E11: הכנסות | F11: אחוז מסך המכירות | G11: אחוז מסך ההכנסות
C12: מוצר E | D12: 92 | E12: 21000 | F12: =D12/טבלה136[[#Totals],[מכירות]] -> 0.27963526 | G12: =E12/טבלה136[[#Totals],[הכנסות]] -> 0.08677686
C13: מוצר B | D13: 78 | E13: 69000 | F13: =D13/טבלה136[[#Totals],[מכירות]] -> 0.23708207 | G13: =E13/טבלה136[[#Totals],[הכנסות]] -> 0.28512397
C14: מוצר C | D14: 67 | E14: 41000 | F14: =D14/טבלה136[[#Totals],[מכירות]] -> 0.20364742 | G14: =E14/טבלה136[[#Totals],[הכנסות]] -> 0.16942149
C15: מוצר A | D15: 56 | E15: 38000 | F15: =D15/טבלה136[[#Totals],[מכירות]] -> 0.17021277 | G15: =E15/טבלה136[[#Totals],[הכנסות]] -> 0.15702479
C16: מוצר D | D16: 36 | E16: 73000 | F16: =D16/טבלה136[[#Totals],[מכירות]] -> 0.10942249 | G16: =E16/טבלה136[[#Totals],[הכנסות]] -> 0.30165289
C17: סה"כ | D17: =SUBTOTAL(109,טבלה136[מכירות]) -> 329 | E17: =SUBTOTAL(109,טבלה136[הכנסות]) -> 242000 | F17: =SUBTOTAL(109,טבלה136[אחוז מסך המכירות]) -> 1 | G17: =SUBTOTAL(109,טבלה136[אחוז מסך ההכנסות]) -> 1

Sheet גרף שורות 2
B8: מחלקה | C8: עזיבות | D8: אחוז | E8: מיקום הערה | F8: הערות
B9: שירות | C9: 27 | D9: ='גרף שורות 2'!C9/SUM('גרף שורות 2'!$C$9:$C$14) -> 0.41538462 | E9: =MAX($C$9:$C$14)*2 -> 54 | F9: הסבר כלשהו
B10: מכירות | C10: 15 | D10: ='גרף שורות 2'!C10/SUM('גרף שורות 2'!$C$9:$C$14) -> 0.23076923 | E10: =MAX($C$9:$C$14)*2 -> 54
B11: טכנולוגיה | C11: 12 | D11: ='גרף שורות 2'!C11/SUM('גרף שורות 2'!$C$9:$C$14) -> 0.18461538 | E11: =MAX($C$9:$C$14)*2 -> 54
B12: כספים | C12: 5 | D12: ='גרף שורות 2'!C12/SUM('גרף שורות 2'!$C$9:$C$14) -> 0.076923077 | E12: =MAX($C$9:$C$14)*2 -> 54
B13: מש"א | C13: 4 | D13: ='גרף שורות 2'!C13/SUM('גרף שורות 2'!$C$9:$C$14) -> 0.061538462 | E13: =MAX($C$9:$C$14)*2 -> 54 | F13: גם פה יהיה הסבר
B14: שיווק | C14: 2 | D14: ='גרף שורות 2'!C14/SUM('גרף שורות 2'!$C$9:$C$14) -> 0.030769231 | E14: =MAX($C$9:$C$14)*2 -> 54
